BEGIN:VCALENDAR
VERSION:2.0
PRODID:-//Gita Wisdom - ECPv6.15.17.1//NONSGML v1.0//EN
CALSCALE:GREGORIAN
METHOD:PUBLISH
X-WR-CALNAME:Gita Wisdom
X-ORIGINAL-URL:https://gitawisdom.org
X-WR-CALDESC:Events for Gita Wisdom
REFRESH-INTERVAL;VALUE=DURATION:PT1H
X-Robots-Tag:noindex
X-PUBLISHED-TTL:PT1H
BEGIN:VTIMEZONE
TZID:America/New_York
BEGIN:DAYLIGHT
TZOFFSETFROM:-0500
TZOFFSETTO:-0400
TZNAME:EDT
DTSTART:20180311T070000
END:DAYLIGHT
BEGIN:STANDARD
TZOFFSETFROM:-0400
TZOFFSETTO:-0500
TZNAME:EST
DTSTART:20181104T060000
END:STANDARD
BEGIN:DAYLIGHT
TZOFFSETFROM:-0500
TZOFFSETTO:-0400
TZNAME:EDT
DTSTART:20190310T070000
END:DAYLIGHT
BEGIN:STANDARD
TZOFFSETFROM:-0400
TZOFFSETTO:-0500
TZNAME:EST
DTSTART:20191103T060000
END:STANDARD
BEGIN:DAYLIGHT
TZOFFSETFROM:-0500
TZOFFSETTO:-0400
TZNAME:EDT
DTSTART:20200308T070000
END:DAYLIGHT
BEGIN:STANDARD
TZOFFSETFROM:-0400
TZOFFSETTO:-0500
TZNAME:EST
DTSTART:20201101T060000
END:STANDARD
END:VTIMEZONE
BEGIN:VEVENT
DTSTART;TZID=America/New_York:20190815T183000
DTEND;TZID=America/New_York:20190815T203000
DTSTAMP:20260423T004706
CREATED:20190723T185955Z
LAST-MODIFIED:20190731T181526Z
UID:1618-1565893800-1565901000@gitawisdom.org
SUMMARY:Film Screening: Hare Krishna!
DESCRIPTION:SPECIAL EVENT\nInstead of our regularly scheduled Bhagavad Gita discussion\, this Thursday we’ll take a critical look at the film Hare Krishna! The Mantra\, the Movement and the Swami who started it all\, followed by a discussion of the film. \nPARKING\nNote that street parking is not allowed. Please park in the EverVeda lot or across the street at the Theodore Roosevelt Sanctuary. \nTo learn more about Srila Prabhupada\, how he started a worldwide bhakti movement\, and the basics of the philosophy\, check out Joshua’s book Swami in a Strangeland: How Krishna Came to the West. \n 
URL:https://gitawisdom.org/event/bhagavad-gita-series-2019-08-15/
LOCATION:EverVeda\, 140 Cove Rd.\, Oyster Bay\, NY\, 11771\, United States
CATEGORIES:Gita Wisdom
ATTACH;FMTTYPE=image/png:https://gitawisdom.org/wp-content/uploads/2019/07/hkfilm.png
ORGANIZER;CN="Gita Wisdom":MAILTO:media@gitawisdom.org
END:VEVENT
BEGIN:VEVENT
DTSTART;TZID=America/New_York:20190801T183000
DTEND;TZID=America/New_York:20190801T200000
DTSTAMP:20260423T004706
CREATED:20190723T185955Z
LAST-MODIFIED:20190826T134823Z
UID:1616-1564684200-1564689600@gitawisdom.org
SUMMARY:Bhagavad Gita Class
DESCRIPTION:A TWICE MONTHLY EXPLORATION OF BHAKTI (DEVOTIONAL) PRACTICES \nUncover the hidden dimensions of yoga philosophy. Guided by acclaimed instructor Joshua M. Greene (Yogesvara)\, this interactive gathering is the perfect tool for unlocking the practical applications of India’s preeminent wisdom text\, the Bhagavad Gita. \nThis is an all-levels class. Beginner and advanced students welcome. \n  \nVALUE FOR PARTICIPANT\n– Master the terminology and concepts of yoga philosophy\n– Discover how to apply those concepts in everyday life\n– Connect ancient teachings to current events\n– Enhance and extend the value of your asana practice \n  \nWHAT YOU CAN EXPECT\nEach week\, sessions include:\n– Participation: Kirtan (mantra meditation)\n– Analysis: Chanting and discussion of verses\n– Refreshments: Vegan snacks and social time\n– Advancement: For those wishing to go deeper: homework and recommended reading \n  \nRECOMMENDED MATERIALS\n– A copy of Bhagavad Gita As It Is (available for purchase at class)\n– A string of mala beads (will be provided if needed)\n– A notebook and pen or pencil \n  \nPARKING\nNote that street parking is not allowed. Please park in the EverVeda lot or across the street at the Theodore Roosevelt Sanctuary. \n$10 suggested donation/session \nIf you can’t make it in person you’ll still be able to listen to the uploaded classes on the Gita Wisdom Teachings podcast.
URL:https://gitawisdom.org/event/bhagavad-gita-series/
LOCATION:EverVeda\, 140 Cove Rd.\, Oyster Bay\, NY\, 11771\, United States
CATEGORIES:Gita Wisdom
ATTACH;FMTTYPE=image/jpeg:https://gitawisdom.org/wp-content/uploads/2018/02/1200x630bb.jpg
ORGANIZER;CN="Gita Wisdom":MAILTO:media@gitawisdom.org
END:VEVENT
BEGIN:VEVENT
DTSTART;TZID=America/New_York:20190718T183000
DTEND;TZID=America/New_York:20190718T200000
DTSTAMP:20260423T004706
CREATED:20190723T190658Z
LAST-MODIFIED:20190723T190658Z
UID:1620-1563474600-1563480000@gitawisdom.org
SUMMARY:Bhagavad Gita Class
DESCRIPTION:A TWICE MONTHLY EXPLORATION OF BHAKTI (DEVOTIONAL) PRACTICES \nUncover the hidden dimensions of yoga philosophy. Guided by acclaimed instructor Joshua M. Greene (Yogesvara)\, this interactive gathering is the perfect tool for unlocking the practical applications of India’s preeminent wisdom text\, the Bhagavad Gita. \nThis is an all-levels class. Beginner and advanced students welcome. \n  \nVALUE FOR PARTICIPANT\n– Master the terminology and concepts of yoga philosophy\n– Discover how to apply those concepts in everyday life\n– Connect ancient teachings to current events\n– Enhance and extend the value of your asana practice \n  \nWHAT YOU CAN EXPECT\nEach week\, sessions include:\n– Participation: Kirtan (mantra meditation)\n– Analysis: Chanting and discussion of verses\n– Refreshments: Vegan snacks and social time\n– Advancement: For those wishing to go deeper: homework and recommended reading \n  \nRECOMMENDED MATERIALS\n– A copy of Bhagavad Gita As It Is (available for purchase at class)\n– A string of mala beads (will be provided if needed)\n– A notebook and pen or pencil \n  \nPARKING\nNote that street parking is not allowed. Please park in the EverVeda lot or across the street at the Theodore Roosevelt Sanctuary. \n$10 suggested donation/session \nIf you can’t make it in person you’ll still be able to listen to the uploaded classes on the Gita Wisdom Teachings podcast.
URL:https://gitawisdom.org/event/bhagavad-gita-class-2-3-2/
LOCATION:EverVeda\, 140 Cove Rd.\, Oyster Bay\, NY\, 11771\, United States
CATEGORIES:Gita Wisdom
ATTACH;FMTTYPE=image/jpeg:https://gitawisdom.org/wp-content/uploads/2018/02/1200x630bb.jpg
ORGANIZER;CN="Gita Wisdom":MAILTO:media@gitawisdom.org
END:VEVENT
BEGIN:VEVENT
DTSTART;TZID=America/New_York:20190711T183000
DTEND;TZID=America/New_York:20190711T200000
DTSTAMP:20260423T004706
CREATED:20190624T190449Z
LAST-MODIFIED:20190624T190449Z
UID:1552-1562869800-1562875200@gitawisdom.org
SUMMARY:Bhagavad Gita Class
DESCRIPTION:A TWICE MONTHLY EXPLORATION OF BHAKTI (DEVOTIONAL) PRACTICES \nUncover the hidden dimensions of yoga philosophy. Guided by acclaimed instructor Joshua M. Greene (Yogesvara)\, this interactive gathering is the perfect tool for unlocking the practical applications of India’s preeminent wisdom text\, the Bhagavad Gita. \nThis is an all-levels class. Beginner and advanced students welcome. \n  \nVALUE FOR PARTICIPANT\n– Master the terminology and concepts of yoga philosophy\n– Discover how to apply those concepts in everyday life\n– Connect ancient teachings to current events\n– Enhance and extend the value of your asana practice \n  \nWHAT YOU CAN EXPECT\nEach week\, sessions include:\n– Participation: Kirtan (mantra meditation)\n– Analysis: Chanting and discussion of verses\n– Refreshments: Vegan snacks and social time\n– Advancement: For those wishing to go deeper: homework and recommended reading \n  \nRECOMMENDED MATERIALS\n– A copy of Bhagavad Gita As It Is (available for purchase at class)\n– A string of mala beads (will be provided if needed)\n– A notebook and pen or pencil \n  \nPARKING\nNote that street parking is not allowed. Please park in the EverVeda lot or across the street at the Theodore Roosevelt Sanctuary. \n$10 suggested donation/session \nIf you can’t make it in person you’ll still be able to listen to the uploaded classes on the Gita Wisdom Teachings podcast.
URL:https://gitawisdom.org/event/bhagavad-gita-class-2-3/
LOCATION:EverVeda\, 140 Cove Rd.\, Oyster Bay\, NY\, 11771\, United States
CATEGORIES:Gita Wisdom
ATTACH;FMTTYPE=image/jpeg:https://gitawisdom.org/wp-content/uploads/2018/02/1200x630bb.jpg
ORGANIZER;CN="Gita Wisdom":MAILTO:media@gitawisdom.org
END:VEVENT
BEGIN:VEVENT
DTSTART;TZID=America/New_York:20190627T183000
DTEND;TZID=America/New_York:20190627T200000
DTSTAMP:20260423T004706
CREATED:20190531T011108Z
LAST-MODIFIED:20190530T213402Z
UID:1512-1561660200-1561665600@gitawisdom.org
SUMMARY:Bhagavad Gita Class
DESCRIPTION:A TWICE MONTHLY EXPLORATION OF BHAKTI (DEVOTIONAL) PRACTICES \nUncover the hidden dimensions of yoga philosophy. Guided by acclaimed instructor Joshua M. Greene (Yogesvara)\, this interactive gathering is the perfect tool for unlocking the practical applications of India’s preeminent wisdom text\, the Bhagavad Gita. \nThis is an all-levels class. Beginner and advanced students welcome. \n  \nVALUE FOR PARTICIPANT\n– Master the terminology and concepts of yoga philosophy\n– Discover how to apply those concepts in everyday life\n– Connect ancient teachings to current events\n– Enhance and extend the value of your asana practice \n  \nWHAT YOU CAN EXPECT\nEach week\, sessions include:\n– Participation: Kirtan (mantra meditation)\n– Analysis: Chanting and discussion of verses\n– Refreshments: Vegan snacks and social time\n– Advancement: For those wishing to go deeper: homework and recommended reading \n  \nRECOMMENDED MATERIALS\n– A copy of Bhagavad Gita As It Is (available for purchase at class)\n– A string of mala beads (will be provided if needed)\n– A notebook and pen or pencil \n  \nPARKING\nNote that street parking is not allowed. Please park in the EverVeda lot or across the street at the Theodore Roosevelt Sanctuary. \n$10 suggested donation/session \nIf you can’t make it in person you’ll still be able to listen to the uploaded classes on the Gita Wisdom Teachings podcast.
URL:https://gitawisdom.org/event/bhagavad-gita-class-2/
LOCATION:EverVeda\, 140 Cove Rd.\, Oyster Bay\, NY\, 11771\, United States
CATEGORIES:Gita Wisdom
ATTACH;FMTTYPE=image/jpeg:https://gitawisdom.org/wp-content/uploads/2018/02/1200x630bb.jpg
ORGANIZER;CN="Gita Wisdom":MAILTO:media@gitawisdom.org
END:VEVENT
BEGIN:VEVENT
DTSTART;TZID=America/New_York:20190606T183000
DTEND;TZID=America/New_York:20190606T200000
DTSTAMP:20260423T004706
CREATED:20190531T011038Z
LAST-MODIFIED:20190530T212020Z
UID:1510-1559845800-1559851200@gitawisdom.org
SUMMARY:Bhagavad Gita Class
DESCRIPTION:A TWICE MONTHLY EXPLORATION OF BHAKTI (DEVOTIONAL) PRACTICES \nUncover the hidden dimensions of yoga philosophy. Guided by acclaimed instructor Joshua M. Greene (Yogesvara)\, this interactive gathering is the perfect tool for unlocking the practical applications of India’s preeminent wisdom text\, the Bhagavad Gita. \nThis is an all-levels class. Beginner and advanced students welcome. \n  \nVALUE FOR PARTICIPANT\n– Master the terminology and concepts of yoga philosophy\n– Discover how to apply those concepts in everyday life\n– Connect ancient teachings to current events\n– Enhance and extend the value of your asana practice \n  \nWHAT YOU CAN EXPECT\nEach week\, sessions include:\n– Participation: Kirtan (mantra meditation)\n– Analysis: Chanting and discussion of verses\n– Refreshments: Vegan snacks and social time\n– Advancement: For those wishing to go deeper: homework and recommended reading \n  \nRECOMMENDED MATERIALS\n– A copy of Bhagavad Gita As It Is (available for purchase at class)\n– A string of mala beads (will be provided if needed)\n– A notebook and pen or pencil \n  \nPARKING\nNote that street parking is not allowed. Please park in the EverVeda lot or across the street at the Theodore Roosevelt Sanctuary. \n$10 suggested donation/session \nIf you can’t make it in person you’ll still be able to listen to the uploaded classes on the Gita Wisdom Teachings podcast.
URL:https://gitawisdom.org/event/bhagavad-gita-class/
LOCATION:EverVeda\, 140 Cove Rd.\, Oyster Bay\, NY\, 11771\, United States
CATEGORIES:Gita Wisdom
ATTACH;FMTTYPE=image/jpeg:https://gitawisdom.org/wp-content/uploads/2018/02/1200x630bb.jpg
ORGANIZER;CN="Gita Wisdom":MAILTO:media@gitawisdom.org
END:VEVENT
BEGIN:VEVENT
DTSTART;TZID=America/New_York:20190523T183000
DTEND;TZID=America/New_York:20190523T200000
DTSTAMP:20260423T004706
CREATED:20190530T213503Z
LAST-MODIFIED:20190530T213533Z
UID:1525-1558636200-1558641600@gitawisdom.org
SUMMARY:Bhagavad Gita Class
DESCRIPTION:A TWICE MONTHLY EXPLORATION OF BHAKTI (DEVOTIONAL) PRACTICES \nUncover the hidden dimensions of yoga philosophy. Guided by acclaimed instructor Joshua M. Greene (Yogesvara)\, this interactive gathering is the perfect tool for unlocking the practical applications of India’s preeminent wisdom text\, the Bhagavad Gita. \nThis is an all-levels class. Beginner and advanced students welcome. \n  \nVALUE FOR PARTICIPANT\n– Master the terminology and concepts of yoga philosophy\n– Discover how to apply those concepts in everyday life\n– Connect ancient teachings to current events\n– Enhance and extend the value of your asana practice \n  \nWHAT YOU CAN EXPECT\nEach week\, sessions include:\n– Participation: Kirtan (mantra meditation)\n– Analysis: Chanting and discussion of verses\n– Refreshments: Vegan snacks and social time\n– Advancement: For those wishing to go deeper: homework and recommended reading \n  \nRECOMMENDED MATERIALS\n– A copy of Bhagavad Gita As It Is (available for purchase at class)\n– A string of mala beads (will be provided if needed)\n– A notebook and pen or pencil \n  \nPARKING\nNote that street parking is not allowed. Please park in the EverVeda lot or across the street at the Theodore Roosevelt Sanctuary. \n$10 suggested donation/session \nIf you can’t make it in person you’ll still be able to listen to the uploaded classes on the Gita Wisdom Teachings podcast.
URL:https://gitawisdom.org/event/bhagavad-gita-class-2-2/
LOCATION:EverVeda\, 140 Cove Rd.\, Oyster Bay\, NY\, 11771\, United States
CATEGORIES:Gita Wisdom
ATTACH;FMTTYPE=image/jpeg:https://gitawisdom.org/wp-content/uploads/2018/02/1200x630bb.jpg
ORGANIZER;CN="Gita Wisdom":MAILTO:media@gitawisdom.org
END:VEVENT
END:VCALENDAR