BEGIN:VCALENDAR
VERSION:2.0
PRODID:-//Gita Wisdom - ECPv6.15.17.1//NONSGML v1.0//EN
CALSCALE:GREGORIAN
METHOD:PUBLISH
X-WR-CALNAME:Gita Wisdom
X-ORIGINAL-URL:https://gitawisdom.org
X-WR-CALDESC:Events for Gita Wisdom
REFRESH-INTERVAL;VALUE=DURATION:PT1H
X-Robots-Tag:noindex
X-PUBLISHED-TTL:PT1H
BEGIN:VTIMEZONE
TZID:America/New_York
BEGIN:DAYLIGHT
TZOFFSETFROM:-0500
TZOFFSETTO:-0400
TZNAME:EDT
DTSTART:20190310T070000
END:DAYLIGHT
BEGIN:STANDARD
TZOFFSETFROM:-0400
TZOFFSETTO:-0500
TZNAME:EST
DTSTART:20191103T060000
END:STANDARD
BEGIN:DAYLIGHT
TZOFFSETFROM:-0500
TZOFFSETTO:-0400
TZNAME:EDT
DTSTART:20200308T070000
END:DAYLIGHT
BEGIN:STANDARD
TZOFFSETFROM:-0400
TZOFFSETTO:-0500
TZNAME:EST
DTSTART:20201101T060000
END:STANDARD
BEGIN:DAYLIGHT
TZOFFSETFROM:-0500
TZOFFSETTO:-0400
TZNAME:EDT
DTSTART:20210314T070000
END:DAYLIGHT
BEGIN:STANDARD
TZOFFSETFROM:-0400
TZOFFSETTO:-0500
TZNAME:EST
DTSTART:20211107T060000
END:STANDARD
END:VTIMEZONE
BEGIN:VEVENT
DTSTART;TZID=America/New_York:20200228T193000
DTEND;TZID=America/New_York:20200228T213000
DTSTAMP:20260423T015322
CREATED:20200126T150207Z
LAST-MODIFIED:20200126T150207Z
UID:1782-1582918200-1582925400@gitawisdom.org
SUMMARY:George Harrison Tribute
DESCRIPTION:Here Comes the Sun: The Spiritual & Musical Journey of George Harrison\n\n\nJoshua Greene\, Godfrey Townsend and Michael Also \n\nhttps://gitawisdom.org/wp-content/uploads/2020/01/george_instagram.mp4\n\n\n  \nJoin the Open Center for an exciting tribute to George Harrison\, featuring live music\, film clips\, narration\, and a rarely seen interview of Harrison in his later years. The author of an acclaimed biography of the musician\, Joshua M. Greene\, will be joined by renowned singer and guitarist\, Godfrey Townsend\, to trace Harrison’s rise from the streets of postwar Liverpool to the summit of pop stardom\, his discovery of spirituality in the ragas of Ravi Shankar and his efforts to bring the other Beatles along on his journey to self-realization. \nGreene will also examine the role that yoga and chanting played in Harrison’s post-Beatles musical compositions\, while Townsend provides performances of the songs to illustrate that influence. \nDon’t miss this fascinating evening that celebrates the most spiritual of the Beatles\, and offers a unique lens through which to view his crucial\, but rarely examined role in the phenomenal rise of yoga culture in the West. \nAn Evening Event\nFriday\, February 28\, 2020\, 7:30 pm\nMembers $25/ Nonmembers $30
URL:https://gitawisdom.org/event/george-harrison-tribute/
LOCATION:Open Center\, 22 E. 30th Street\, New York\, NY\, 10016\, United States
CATEGORIES:George Harrison
ATTACH;FMTTYPE=image/jpeg:https://gitawisdom.org/wp-content/uploads/2017/02/harrison-H.jpg
END:VEVENT
END:VCALENDAR